BEGIN:VCALENDAR
VERSION:2.0
PRODID:Spatie calendar-links
BEGIN:VEVENT
UID:16e6582e-a8b6-4a44-832a-fcdfc8686522
SUMMARY:All Ball: MS 113\, 5 v 5 Full\, Casual
DTSTAMP:20260422T221500Z
DTSTART:20260422T221500Z
DTEND:20260423T000000Z
LOCATION:300 Adelphi Street \nBrooklyn\, NY\, 11205
END:VEVENT
END:VCALENDAR