BEGIN:VCALENDAR
VERSION:2.0
PRODID:Spatie calendar-links
BEGIN:VEVENT
UID:141b84f6-fadd-4988-ae38-ed37bf98f6fe
SUMMARY:All Ball: MS 113\, 5 v 5 Full\, Select
DTSTAMP:20260427T221500Z
DTSTART:20260427T221500Z
DTEND:20260428T000000Z
LOCATION:300 Adelphi Street \nBrooklyn\, NY\, 11205
END:VEVENT
END:VCALENDAR