BEGIN:VCALENDAR
VERSION:2.0
PRODID:Spatie calendar-links
BEGIN:VEVENT
UID:27dc24eb-f258-495e-abda-92fb48dd54d2
SUMMARY:All Ball: MS 113\, 5 v 5 Full
DTSTAMP:20260428T221500Z
DTSTART:20260428T221500Z
DTEND:20260429T000000Z
LOCATION:300 Adelphi Street \nBrooklyn\, NY\, 11205
END:VEVENT
END:VCALENDAR