BEGIN:VCALENDAR
VERSION:2.0
PRODID:Spatie calendar-links
BEGIN:VEVENT
UID:a8349bf9-aec8-498d-b093-48cef043d966
SUMMARY:All Ball: MS 113\, 5 v 5 Full\, Casual
DTSTAMP:20260429T221500Z
DTSTART:20260429T221500Z
DTEND:20260430T000000Z
LOCATION:300 Adelphi Street \nBrooklyn\, NY\, 11205
END:VEVENT
END:VCALENDAR