BEGIN:VCALENDAR
VERSION:2.0
PRODID:Spatie calendar-links
BEGIN:VEVENT
UID:2a8de076-a595-412b-b67f-a89280b40765
SUMMARY:All Ball: MS 113\, 5 v 5 Full\, Elite
DTSTAMP:20260501T000000Z
DTSTART:20260501T000000Z
DTEND:20260501T014500Z
LOCATION:300 Adelphi Street \nBrooklyn\, NY\, 11205
END:VEVENT
END:VCALENDAR