BEGIN:VCALENDAR
VERSION:2.0
PRODID:Spatie calendar-links
BEGIN:VEVENT
UID:8f93017d-a928-45df-a92d-96db4f638c13
SUMMARY:All Ball: The Post: Gowanus\, 5 v 5 Full
DTSTAMP:20260425T190000Z
DTSTART:20260425T190000Z
DTEND:20260425T203000Z
LOCATION:483 Baltic Street \nBrooklyn\, NY\, 11217
END:VEVENT
END:VCALENDAR