BEGIN:VCALENDAR
VERSION:2.0
PRODID:Spatie calendar-links
BEGIN:VEVENT
UID:a05ce58b-d4d6-4665-8272-a5a648c2df95
SUMMARY:All Ball: The Post: Gowanus\, 5 v 5 Full\, Casual
DTSTAMP:20260425T203000Z
DTSTART:20260425T203000Z
DTEND:20260425T220000Z
LOCATION:483 Baltic Street \nBrooklyn\, NY\, 11217
END:VEVENT
END:VCALENDAR