BEGIN:VCALENDAR
VERSION:2.0
PRODID:Spatie calendar-links
BEGIN:VEVENT
UID:288de5f0-e66e-498e-91e8-a0cbe1ec1bff
SUMMARY:All Ball: The Post: Gowanus\, 5 v 5 Full
DTSTAMP:20260426T130000Z
DTSTART:20260426T130000Z
DTEND:20260426T150000Z
LOCATION:483 Baltic Street \nBrooklyn\, NY\, 11217
END:VEVENT
END:VCALENDAR