BEGIN:VCALENDAR
VERSION:2.0
PRODID:Spatie calendar-links
BEGIN:VEVENT
UID:505617af-4b6c-4313-8710-3d9a54eeb470
SUMMARY:All Ball: The Post: Gowanus\, 5 v 5 Full\, Select
DTSTAMP:20260429T000000Z
DTSTART:20260429T000000Z
DTEND:20260429T013000Z
LOCATION:483 Baltic Street \nBrooklyn\, NY\, 11217
END:VEVENT
END:VCALENDAR