BEGIN:VCALENDAR
VERSION:2.0
PRODID:Spatie calendar-links
BEGIN:VEVENT
UID:ef2eda34-a441-4495-a79c-5b36558284b4
SUMMARY:All Ball: The Post: Gowanus\, 5 v 5 Full
DTSTAMP:20260429T013000Z
DTSTART:20260429T013000Z
DTEND:20260429T030000Z
LOCATION:483 Baltic Street \nBrooklyn\, NY\, 11217
END:VEVENT
END:VCALENDAR