BEGIN:VCALENDAR
VERSION:2.0
PRODID:Spatie calendar-links
BEGIN:VEVENT
UID:ab9368f6-09f0-463f-be6e-378800e59e63
SUMMARY:All Ball: The Post: Gowanus\, 5 v 5 Full\, Elite
DTSTAMP:20260501T013000Z
DTSTART:20260501T013000Z
DTEND:20260501T030000Z
LOCATION:483 Baltic Street \nBrooklyn\, NY\, 11217
END:VEVENT
END:VCALENDAR