BEGIN:VCALENDAR
VERSION:2.0
PRODID:Spatie calendar-links
BEGIN:VEVENT
UID:26644bf6-6a17-4254-9f4c-22583c00ce30
SUMMARY:All Ball: The Post: Gowanus\, 5 v 5 Full
DTSTAMP:20260424T170000Z
DTSTART:20260424T170000Z
DTEND:20260424T183000Z
LOCATION:483 Baltic Street \nBrooklyn\, NY\, 11217
END:VEVENT
END:VCALENDAR