BEGIN:VCALENDAR
VERSION:2.0
PRODID:Spatie calendar-links
BEGIN:VEVENT
UID:38166041-1c97-4af1-aabd-3bb62192c002
SUMMARY:All Ball: The Post: Greenpoint\, 5 v 5 Full\, Casual
DTSTAMP:20260413T213000Z
DTSTART:20260413T213000Z
DTEND:20260413T230000Z
LOCATION:100 Dobbin Street \nBrooklyn\, NY\, 11222
END:VEVENT
END:VCALENDAR