BEGIN:VCALENDAR
VERSION:2.0
PRODID:Spatie calendar-links
BEGIN:VEVENT
UID:20bb0d8e-6a2a-4c84-99a8-ce4c2cd0d3a2
SUMMARY:All Ball: The Post: Greenpoint\, 5 v 5 Full\, Select
DTSTAMP:20260420T000000Z
DTSTART:20260420T000000Z
DTEND:20260420T013000Z
LOCATION:100 Dobbin Street \nBrooklyn\, NY\, 11222
END:VEVENT
END:VCALENDAR