BEGIN:VCALENDAR
VERSION:2.0
PRODID:Spatie calendar-links
BEGIN:VEVENT
UID:4aafb838-2cff-4849-b086-8d73a0b9f7da
SUMMARY:All Ball: The Post: Greenpoint\, 5 v 5 Full\, Casual
DTSTAMP:20260420T213000Z
DTSTART:20260420T213000Z
DTEND:20260420T230000Z
LOCATION:100 Dobbin Street \nBrooklyn\, NY\, 11222
END:VEVENT
END:VCALENDAR