BEGIN:VCALENDAR
VERSION:2.0
PRODID:Spatie calendar-links
BEGIN:VEVENT
UID:065c3538-4f3a-4ffd-a96f-4118054005d6
SUMMARY:All Ball: The Post: Greenpoint\, 5 v 5 Full\, Select
DTSTAMP:20260421T213000Z
DTSTART:20260421T213000Z
DTEND:20260421T230000Z
LOCATION:100 Dobbin Street \nBrooklyn\, NY\, 11222
END:VEVENT
END:VCALENDAR