BEGIN:VCALENDAR
VERSION:2.0
PRODID:Spatie calendar-links
BEGIN:VEVENT
UID:a81cc749-7000-481d-8086-233825c9527e
SUMMARY:All Ball: The Post: Greenpoint\, 5 v 5 Full\, Select
DTSTAMP:20260425T120000Z
DTSTART:20260425T120000Z
DTEND:20260425T133000Z
LOCATION:100 Dobbin Street \nBrooklyn\, NY\, 11222
END:VEVENT
END:VCALENDAR