BEGIN:VCALENDAR
VERSION:2.0
PRODID:Spatie calendar-links
BEGIN:VEVENT
UID:20472454-cef8-407c-926f-5ef936e7d722
SUMMARY:All Ball: The Post: Greenpoint\, 5 v 5 Full
DTSTAMP:20260426T123000Z
DTSTART:20260426T123000Z
DTEND:20260426T140000Z
LOCATION:100 Dobbin Street \nBrooklyn\, NY\, 11222
END:VEVENT
END:VCALENDAR