BEGIN:VCALENDAR
VERSION:2.0
PRODID:Spatie calendar-links
BEGIN:VEVENT
UID:ec90b4ce-2d9b-4a9f-8da5-728224fa68fb
SUMMARY:All Ball: The Post: Greenpoint\, 5 v 5 Full\, Casual
DTSTAMP:20260427T213000Z
DTSTART:20260427T213000Z
DTEND:20260427T230000Z
LOCATION:100 Dobbin Street \nBrooklyn\, NY\, 11222
END:VEVENT
END:VCALENDAR