BEGIN:VCALENDAR
VERSION:2.0
PRODID:Spatie calendar-links
BEGIN:VEVENT
UID:c229898a-aa8c-449c-8a83-481058c90b4a
SUMMARY:All Ball: The Post: Greenpoint\, 5 v 5 Full\, Select
DTSTAMP:20260428T213000Z
DTSTART:20260428T213000Z
DTEND:20260428T230000Z
LOCATION:100 Dobbin Street \nBrooklyn\, NY\, 11222
END:VEVENT
END:VCALENDAR