BEGIN:VCALENDAR
VERSION:2.0
PRODID:Spatie calendar-links
BEGIN:VEVENT
UID:a99fb164-1732-4b5e-a51c-b039cab8e872
SUMMARY:All Ball: The Post: Greenpoint\, 5 v 5 Full
DTSTAMP:20260430T013000Z
DTSTART:20260430T013000Z
DTEND:20260430T030000Z
LOCATION:100 Dobbin Street \nBrooklyn\, NY\, 11222
END:VEVENT
END:VCALENDAR