BEGIN:VCALENDAR
VERSION:2.0
PRODID:Spatie calendar-links
BEGIN:VEVENT
UID:de988184-ec27-45e2-81e5-efb95a59a14f
SUMMARY:All Ball: The Post: Bushwick\, 5 v 5 Full
DTSTAMP:20260420T213000Z
DTSTART:20260420T213000Z
DTEND:20260420T230000Z
LOCATION:53 Knickerbocker Avenue \nBrooklyn\, NY\, 11237
END:VEVENT
END:VCALENDAR