BEGIN:VCALENDAR
VERSION:2.0
PRODID:Spatie calendar-links
BEGIN:VEVENT
UID:1470bc9a-19ea-44a2-b19a-70137de7399e
SUMMARY:All Ball: The Post: Bushwick\, 5 v 5 Full\, Casual
DTSTAMP:20260422T213000Z
DTSTART:20260422T213000Z
DTEND:20260422T230000Z
LOCATION:53 Knickerbocker Avenue \nBrooklyn\, NY\, 11237
END:VEVENT
END:VCALENDAR