BEGIN:VCALENDAR
VERSION:2.0
PRODID:Spatie calendar-links
BEGIN:VEVENT
UID:f2e2e515-d804-46f7-afdc-12f1e286d13c
SUMMARY:All Ball: The Post: Bushwick\, 5 v 5 Full
DTSTAMP:20260423T213000Z
DTSTART:20260423T213000Z
DTEND:20260423T230000Z
LOCATION:53 Knickerbocker Avenue \nBrooklyn\, NY\, 11237
END:VEVENT
END:VCALENDAR