BEGIN:VCALENDAR
VERSION:2.0
PRODID:Spatie calendar-links
BEGIN:VEVENT
UID:474291d4-5410-4739-b7d6-1d2b5597e692
SUMMARY:All Ball: The Post: Bushwick\, 5 v 5 Full
DTSTAMP:20260424T220000Z
DTSTART:20260424T220000Z
DTEND:20260425T000000Z
LOCATION:53 Knickerbocker Avenue \nBrooklyn\, NY\, 11237
END:VEVENT
END:VCALENDAR