BEGIN:VCALENDAR
VERSION:2.0
PRODID:Spatie calendar-links
BEGIN:VEVENT
UID:4e4a01c3-4e8b-4723-b1b4-1385918c92bc
SUMMARY:All Ball: The Post: Bushwick\, 5 v 5 Full
DTSTAMP:20260425T161500Z
DTSTART:20260425T161500Z
DTEND:20260425T180000Z
LOCATION:53 Knickerbocker Avenue \nBrooklyn\, NY\, 11237
END:VEVENT
END:VCALENDAR