BEGIN:VCALENDAR
VERSION:2.0
PRODID:Spatie calendar-links
BEGIN:VEVENT
UID:68275ddd-a5c8-47f7-95fc-fda1e5c98887
SUMMARY:All Ball: The Post: Bushwick\, 5 v 5 Full
DTSTAMP:20260427T213000Z
DTSTART:20260427T213000Z
DTEND:20260427T230000Z
LOCATION:53 Knickerbocker Avenue \nBrooklyn\, NY\, 11237
END:VEVENT
END:VCALENDAR