BEGIN:VCALENDAR
VERSION:2.0
PRODID:Spatie calendar-links
BEGIN:VEVENT
UID:81c4ab2e-cf5b-45af-9601-9b81f14f759a
SUMMARY:All Ball: The Post: Bushwick\, 5 v 5 Full\, Casual
DTSTAMP:20260429T213000Z
DTSTART:20260429T213000Z
DTEND:20260429T230000Z
LOCATION:53 Knickerbocker Avenue \nBrooklyn\, NY\, 11237
END:VEVENT
END:VCALENDAR