BEGIN:VCALENDAR
VERSION:2.0
PRODID:Spatie calendar-links
BEGIN:VEVENT
UID:3addddb7-3af0-4338-ab58-5627f4ea8d42
SUMMARY:All Ball: The Post: Bushwick\, 5 v 5 Full
DTSTAMP:20260430T013000Z
DTSTART:20260430T013000Z
DTEND:20260430T030000Z
LOCATION:53 Knickerbocker Avenue \nBrooklyn\, NY\, 11237
END:VEVENT
END:VCALENDAR