BEGIN:VCALENDAR
VERSION:2.0
PRODID:Spatie calendar-links
BEGIN:VEVENT
UID:6678dac1-51c5-471b-b727-c15a4b80c02d
SUMMARY:All Ball: The Post: Bushwick\, 5 v 5 Full
DTSTAMP:20260430T213000Z
DTSTART:20260430T213000Z
DTEND:20260430T230000Z
LOCATION:53 Knickerbocker Avenue \nBrooklyn\, NY\, 11237
END:VEVENT
END:VCALENDAR