BEGIN:VCALENDAR
VERSION:2.0
PRODID:Spatie calendar-links
BEGIN:VEVENT
UID:8360a66b-cb8b-4ed8-b80f-03e1a1c6f866
SUMMARY:All Ball: The Post: Greenpoint\, 5 v 5 Full
DTSTAMP:20260421T170000Z
DTSTART:20260421T170000Z
DTEND:20260421T183000Z
LOCATION:100 Dobbin Street \nBrooklyn\, NY\, 11222
END:VEVENT
END:VCALENDAR