BEGIN:VCALENDAR
VERSION:2.0
PRODID:Spatie calendar-links
BEGIN:VEVENT
UID:4668cbc7-9fd9-46ea-9287-831c0d1fa1b2
SUMMARY:All Ball: The Post: Greenpoint\, 5 v 5 Full
DTSTAMP:20260427T170000Z
DTSTART:20260427T170000Z
DTEND:20260427T183000Z
LOCATION:100 Dobbin Street \nBrooklyn\, NY\, 11222
END:VEVENT
END:VCALENDAR