BEGIN:VCALENDAR
VERSION:2.0
PRODID:Spatie calendar-links
BEGIN:VEVENT
UID:317cd98d-9aae-4e35-b2db-485070d89e74
SUMMARY:All Ball: The Post: Greenpoint\, 5 v 5 Full
DTSTAMP:20260430T170000Z
DTSTART:20260430T170000Z
DTEND:20260430T183000Z
LOCATION:100 Dobbin Street \nBrooklyn\, NY\, 11222
END:VEVENT
END:VCALENDAR