BEGIN:VCALENDAR
VERSION:2.0
PRODID:Spatie calendar-links
BEGIN:VEVENT
UID:ec52800d-0cfc-4758-bf0d-f71c76dfda2f
SUMMARY:All Ball: The Post: Bushwick\, 5 v 5 Full
DTSTAMP:20260422T170000Z
DTSTART:20260422T170000Z
DTEND:20260422T183000Z
LOCATION:53 Knickerbocker Avenue \nBrooklyn\, NY\, 11237
END:VEVENT
END:VCALENDAR