BEGIN:VCALENDAR
VERSION:2.0
PRODID:Spatie calendar-links
BEGIN:VEVENT
UID:bd9ebead-384c-452a-ad99-f5eb0b3dda6d
SUMMARY:All Ball: The Post: Bushwick\, 5 v 5 Full
DTSTAMP:20260424T170000Z
DTSTART:20260424T170000Z
DTEND:20260424T183000Z
LOCATION:53 Knickerbocker Avenue \nBrooklyn\, NY\, 11237
END:VEVENT
END:VCALENDAR