BEGIN:VCALENDAR
VERSION:2.0
PRODID:Spatie calendar-links
BEGIN:VEVENT
UID:066dae8d-2335-4d0b-ad45-1cc220f2fe9b
SUMMARY:All Ball: The Post: Bushwick\, 5 v 5 Full
DTSTAMP:20260429T170000Z
DTSTART:20260429T170000Z
DTEND:20260429T183000Z
LOCATION:53 Knickerbocker Avenue \nBrooklyn\, NY\, 11237
END:VEVENT
END:VCALENDAR