BEGIN:VCALENDAR
VERSION:2.0
PRODID:Spatie calendar-links
BEGIN:VEVENT
UID:5a62524f-d895-407d-9283-6b418c9f26cd
SUMMARY:All Ball: NEST+\, 5 v 5 Full\, Casual
DTSTAMP:20260414T234500Z
DTSTART:20260414T234500Z
DTEND:20260415T011500Z
LOCATION:111 Columbia Street \nNew York\, NY\, 10002
END:VEVENT
END:VCALENDAR