BEGIN:VCALENDAR
VERSION:2.0
PRODID:Spatie calendar-links
BEGIN:VEVENT
UID:0a64c4f8-669f-45f8-bd94-ae372c4c5b65
SUMMARY:All Ball: NEST+\, 5 v 5 Full\, Elite
DTSTAMP:20260426T133000Z
DTSTART:20260426T133000Z
DTEND:20260426T151500Z
LOCATION:111 Columbia Street \nNew York\, NY\, 10002
END:VEVENT
END:VCALENDAR