BEGIN:VCALENDAR
VERSION:2.0
PRODID:Spatie calendar-links
BEGIN:VEVENT
UID:153fc918-47fc-42c4-a058-e83e758993f2
SUMMARY:All Ball: NEST+\, 5 v 5 Full
DTSTAMP:20260426T170000Z
DTSTART:20260426T170000Z
DTEND:20260426T184500Z
LOCATION:111 Columbia Street \nNew York\, NY\, 10002
END:VEVENT
END:VCALENDAR