BEGIN:VCALENDAR
VERSION:2.0
PRODID:Spatie calendar-links
BEGIN:VEVENT
UID:a53ddb26-5e5e-4126-8e50-ea8d5a1e9443
SUMMARY:All Ball: NEST+\, 5 v 5 Full\, Select
DTSTAMP:20260427T234500Z
DTSTART:20260427T234500Z
DTEND:20260428T011500Z
LOCATION:111 Columbia Street \nNew York\, NY\, 10002
END:VEVENT
END:VCALENDAR