BEGIN:VCALENDAR
VERSION:2.0
PRODID:Spatie calendar-links
BEGIN:VEVENT
UID:58c0bad9-01d9-42e4-9db5-ad8596525b3a
SUMMARY:All Ball: NEST+\, 5 v 5 Full
DTSTAMP:20260428T011500Z
DTSTART:20260428T011500Z
DTEND:20260428T024500Z
LOCATION:111 Columbia Street \nNew York\, NY\, 10002
END:VEVENT
END:VCALENDAR