BEGIN:VCALENDAR
VERSION:2.0
PRODID:Spatie calendar-links
BEGIN:VEVENT
UID:2b0e9ea8-5fa0-402e-b44b-d19383b18596
SUMMARY:All Ball: NEST+\, 5 v 5 Full\, Casual
DTSTAMP:20260428T234500Z
DTSTART:20260428T234500Z
DTEND:20260429T011500Z
LOCATION:111 Columbia Street \nNew York\, NY\, 10002
END:VEVENT
END:VCALENDAR