BEGIN:VCALENDAR
VERSION:2.0
PRODID:Spatie calendar-links
BEGIN:VEVENT
UID:b8425e7d-1395-4cb1-ad37-20cf7a335cfe
SUMMARY:All Ball: NEST+\, 5 v 5 Full
DTSTAMP:20260429T011500Z
DTSTART:20260429T011500Z
DTEND:20260429T024500Z
LOCATION:111 Columbia Street \nNew York\, NY\, 10002
END:VEVENT
END:VCALENDAR