BEGIN:VCALENDAR
VERSION:2.0
PRODID:Spatie calendar-links
BEGIN:VEVENT
UID:2eff727f-8259-47d2-9a32-f93e37cca4d0
SUMMARY:All Ball: NEST+\, 5 v 5 Full
DTSTAMP:20260429T234500Z
DTSTART:20260429T234500Z
DTEND:20260430T011500Z
LOCATION:111 Columbia Street \nNew York\, NY\, 10002
END:VEVENT
END:VCALENDAR