BEGIN:VCALENDAR
VERSION:2.0
PRODID:Spatie calendar-links
BEGIN:VEVENT
UID:36d0fa07-04e3-4518-947e-dfba617d8922
SUMMARY:All Ball: NEST+\, 5 v 5 Full
DTSTAMP:20260430T234500Z
DTSTART:20260430T234500Z
DTEND:20260501T011500Z
LOCATION:111 Columbia Street \nNew York\, NY\, 10002
END:VEVENT
END:VCALENDAR