BEGIN:VCALENDAR
VERSION:2.0
PRODID:Spatie calendar-links
BEGIN:VEVENT
UID:8f730152-f31d-4f90-b6ca-53ef73379714
SUMMARY:All Ball: NEST+\, 5 v 5 Full\, Elite
DTSTAMP:20260501T011500Z
DTSTART:20260501T011500Z
DTEND:20260501T024500Z
LOCATION:111 Columbia Street \nNew York\, NY\, 10002
END:VEVENT
END:VCALENDAR