BEGIN:VCALENDAR
VERSION:2.0
PRODID:Spatie calendar-links
BEGIN:VEVENT
UID:54b2d92f-0fdf-4319-9c01-a8d0ff69d5e5
SUMMARY:All Ball: Seward Park\, 5 v 5 Full
DTSTAMP:20260424T231500Z
DTSTART:20260424T231500Z
DTEND:20260425T004500Z
LOCATION:350 Grand Street \nNew York \, NY\, 10002
END:VEVENT
END:VCALENDAR