BEGIN:VCALENDAR
VERSION:2.0
PRODID:Spatie calendar-links
BEGIN:VEVENT
UID:5ae0241e-6571-4d18-a410-738eb8451b96
SUMMARY:All Ball: Seward Park\, 5 v 5 Full
DTSTAMP:20260425T221500Z
DTSTART:20260425T221500Z
DTEND:20260426T001500Z
LOCATION:350 Grand Street \nNew York \, NY\, 10002
END:VEVENT
END:VCALENDAR