BEGIN:VCALENDAR
VERSION:2.0
PRODID:Spatie calendar-links
BEGIN:VEVENT
UID:268b3f4c-e7d1-4201-a344-6c943df6f401
SUMMARY:All Ball: PS 34\, 5 v 5 Full
DTSTAMP:20260425T123000Z
DTSTART:20260425T123000Z
DTEND:20260425T141500Z
LOCATION:730 East 12th Street \nNew York \, NY\, 10009
END:VEVENT
END:VCALENDAR