BEGIN:VCALENDAR
VERSION:2.0
PRODID:Spatie calendar-links
BEGIN:VEVENT
UID:2009cee8-34c2-4da3-92ec-6209681b54e2
SUMMARY:All Ball: PS 34\, 5 v 5 Full
DTSTAMP:20260426T161500Z
DTSTART:20260426T161500Z
DTEND:20260426T180000Z
LOCATION:730 East 12th Street \nNew York \, NY\, 10009
END:VEVENT
END:VCALENDAR